Package: DExMA Version: 1.19.0 Command: /home/biocbuild/bbs-3.23-bioc/R/bin/R CMD build --keep-empty-dirs --no-resave-data DExMA StartedAt: 2025-11-14 17:17:00 -0500 (Fri, 14 Nov 2025) EndedAt: 2025-11-14 17:17:55 -0500 (Fri, 14 Nov 2025) EllapsedTime: 55.1 seconds RetCode: 0 Status: OK PackageFile: DExMA_1.19.0.tar.gz PackageFileSize: 316.4 KiB