Package: DExMA Version: 1.19.0 Command: /Library/Frameworks/R.framework/Resources/bin/R CMD INSTALL DExMA StartedAt: 2025-11-14 15:19:21 -0500 (Fri, 14 Nov 2025) EndedAt: 2025-11-14 15:19:34 -0500 (Fri, 14 Nov 2025) EllapsedTime: 13.2 seconds RetCode: 0 Status: OK