Package: DExMA Version: 1.19.0 Maintainer: Juan Antonio Villatoro-GarcĂ­a MaintainerEmail: juanantoniovillatorogarcia at gmail.com git_url: https://git.bioconductor.org/packages/DExMA git_branch: devel git_last_commit: f2e6f45 git_last_commit_date: 2025-10-29 11:09:00 -0500 (Wed, 29 Oct 2025)