Package: DEXSeq Version: 1.57.0 Command: /home/biocbuild/bbs-3.23-bioc/R/bin/R CMD build --keep-empty-dirs --no-resave-data DEXSeq StartedAt: 2025-11-14 17:17:07 -0500 (Fri, 14 Nov 2025) EndedAt: 2025-11-14 17:18:59 -0500 (Fri, 14 Nov 2025) EllapsedTime: 112.1 seconds RetCode: 0 Status: OK PackageFile: DEXSeq_1.57.0.tar.gz PackageFileSize: 1.643 MiB