Package: DEXSeq Version: 1.57.0 Command: /Library/Frameworks/R.framework/Resources/bin/R CMD INSTALL DEXSeq StartedAt: 2025-11-13 15:13:13 -0500 (Thu, 13 Nov 2025) EndedAt: 2025-11-13 15:13:28 -0500 (Thu, 13 Nov 2025) EllapsedTime: 15.3 seconds RetCode: 0 Status: OK