Package: DEXSeq Version: 1.57.0 Command: /Library/Frameworks/R.framework/Resources/bin/R CMD build --keep-empty-dirs --no-resave-data DEXSeq StartedAt: 2025-11-13 16:12:45 -0500 (Thu, 13 Nov 2025) EndedAt: 2025-11-13 16:13:32 -0500 (Thu, 13 Nov 2025) EllapsedTime: 47.5 seconds RetCode: 0 Status: OK PackageFile: DEXSeq_1.57.0.tar.gz PackageFileSize: 1.789 MiB