Package: DEXSeq Version: 1.57.0 Command: rm -rf DEXSeq.buildbin-libdir && mkdir DEXSeq.buildbin-libdir && /Users/biocbuild/BBS/utils/build-universal.sh DEXSeq_1.57.0.tar.gz /Library/Frameworks/R.framework/Resources/bin/R DEXSeq.buildbin-libdir StartedAt: 2025-11-13 23:35:14 -0500 (Thu, 13 Nov 2025) EndedAt: 2025-11-13 23:35:33 -0500 (Thu, 13 Nov 2025) EllapsedTime: 18.4 seconds RetCode: 0 Status: OK PackageFile: DEXSeq_1.57.0.tgz PackageFileSize: 2.218 MiB