Package: DEXSeq Version: 1.57.0 Maintainer: Alejandro Reyes MaintainerEmail: alejandro.reyes.ds at gmail.com git_url: https://git.bioconductor.org/packages/DEXSeq git_branch: devel git_last_commit: db6ed7c git_last_commit_date: 2025-10-29 10:07:54 -0500 (Wed, 29 Oct 2025)