Package: DEWSeq Version: 1.25.0 Command: /Library/Frameworks/R.framework/Resources/bin/R CMD INSTALL DEWSeq StartedAt: 2025-11-12 15:26:04 -0500 (Wed, 12 Nov 2025) EndedAt: 2025-11-12 15:26:15 -0500 (Wed, 12 Nov 2025) EllapsedTime: 11.3 seconds RetCode: 0 Status: OK