Package: DEWSeq Version: 1.25.0 Command: /Library/Frameworks/R.framework/Resources/bin/R CMD build --keep-empty-dirs --no-resave-data DEWSeq StartedAt: 2025-11-14 16:09:21 -0500 (Fri, 14 Nov 2025) EndedAt: 2025-11-14 16:10:01 -0500 (Fri, 14 Nov 2025) EllapsedTime: 40.4 seconds RetCode: 0 Status: OK PackageFile: DEWSeq_1.25.0.tar.gz PackageFileSize: 3.422 MiB