Package: DEWSeq Version: 1.25.0 Maintainer: bioinformatics team Hentze MaintainerEmail: biohentze at embl.de git_url: https://git.bioconductor.org/packages/DEWSeq git_branch: devel git_last_commit: 065d2b7 git_last_commit_date: 2025-10-29 10:55:18 -0500 (Wed, 29 Oct 2025)