Package: DEP Version: 1.31.2 Command: /home/biocbuild/bbs-3.23-bioc/R/bin/R CMD INSTALL DEP StartedAt: 2025-10-22 21:29:59 -0000 (Wed, 22 Oct 2025) EndedAt: 2025-10-22 21:30:42 -0000 (Wed, 22 Oct 2025) EllapsedTime: 43.5 seconds RetCode: 0 Status: OK