Package: DEP Version: 1.31.2 Command: /home/biocbuild/bbs-3.23-bioc/R/bin/R CMD build --keep-empty-dirs --no-resave-data DEP StartedAt: 2025-10-22 22:41:09 -0000 (Wed, 22 Oct 2025) EndedAt: 2025-10-22 22:42:40 -0000 (Wed, 22 Oct 2025) EllapsedTime: 91.1 seconds RetCode: 0 Status: OK PackageFile: DEP_1.31.2.tar.gz PackageFileSize: 3.438 MiB