Package: DEGseq Version: 1.65.0 Command: /home/biocbuild/bbs-3.23-bioc/R/bin/R CMD INSTALL DEGseq StartedAt: 2025-11-14 15:10:43 -0500 (Fri, 14 Nov 2025) EndedAt: 2025-11-14 15:11:10 -0500 (Fri, 14 Nov 2025) EllapsedTime: 26.9 seconds RetCode: 0 Status: OK