Package: DEGseq Version: 1.65.0 Command: /home/biocbuild/bbs-3.23-bioc/R/bin/R CMD build --keep-empty-dirs --no-resave-data DEGseq StartedAt: 2025-11-14 17:12:26 -0500 (Fri, 14 Nov 2025) EndedAt: 2025-11-14 17:12:48 -0500 (Fri, 14 Nov 2025) EllapsedTime: 22.0 seconds RetCode: 0 Status: OK PackageFile: DEGseq_1.65.0.tar.gz PackageFileSize: 1.961 MiB