Package: DEGseq Version: 1.65.0 Command: /Library/Frameworks/R.framework/Resources/bin/R CMD INSTALL DEGseq StartedAt: 2025-11-14 15:06:09 -0500 (Fri, 14 Nov 2025) EndedAt: 2025-11-14 15:06:15 -0500 (Fri, 14 Nov 2025) EllapsedTime: 5.2 seconds RetCode: 0 Status: OK