Package: DEGseq Version: 1.65.0 Command: /Library/Frameworks/R.framework/Resources/bin/R CMD build --keep-empty-dirs --no-resave-data DEGseq StartedAt: 2025-11-14 16:06:53 -0500 (Fri, 14 Nov 2025) EndedAt: 2025-11-14 16:07:04 -0500 (Fri, 14 Nov 2025) EllapsedTime: 11.1 seconds RetCode: 0 Status: OK PackageFile: DEGseq_1.65.0.tar.gz PackageFileSize: 1.961 MiB