Package: DEGseq Version: 1.65.0 Command: rm -rf DEGseq.buildbin-libdir && mkdir DEGseq.buildbin-libdir && /Users/biocbuild/BBS/utils/build-universal.sh DEGseq_1.65.0.tar.gz /Library/Frameworks/R.framework/Resources/bin/R DEGseq.buildbin-libdir StartedAt: 2025-11-14 23:29:55 -0500 (Fri, 14 Nov 2025) EndedAt: 2025-11-14 23:30:02 -0500 (Fri, 14 Nov 2025) EllapsedTime: 7.1 seconds RetCode: 0 Status: OK PackageFile: DEGseq_1.65.0.tgz PackageFileSize: 2.247 MiB