Package: DEFormats Version: 1.39.0 Command: /Library/Frameworks/R.framework/Resources/bin/R CMD INSTALL DEFormats StartedAt: 2025-11-14 15:16:12 -0500 (Fri, 14 Nov 2025) EndedAt: 2025-11-14 15:16:23 -0500 (Fri, 14 Nov 2025) EllapsedTime: 10.7 seconds RetCode: 0 Status: OK