Package: DEFormats Version: 1.39.0 Command: /Library/Frameworks/R.framework/Resources/bin/R CMD build --keep-empty-dirs --no-resave-data DEFormats StartedAt: 2025-11-14 16:06:38 -0500 (Fri, 14 Nov 2025) EndedAt: 2025-11-14 16:06:53 -0500 (Fri, 14 Nov 2025) EllapsedTime: 15.2 seconds RetCode: 0 Status: OK PackageFile: DEFormats_1.39.0.tar.gz PackageFileSize: 226.4 KiB