Package: DECIPHER Version: 3.7.0 Command: /home/biocbuild/bbs-3.23-bioc/R/bin/R CMD INSTALL DECIPHER StartedAt: 2025-11-16 15:32:49 -0500 (Sun, 16 Nov 2025) EndedAt: 2025-11-16 15:33:49 -0500 (Sun, 16 Nov 2025) EllapsedTime: 59.9 seconds RetCode: 0 Status: OK