Package: DECIPHER Version: 3.7.0 Command: /home/biocbuild/bbs-3.23-bioc/R/bin/R CMD build --keep-empty-dirs --no-resave-data DECIPHER StartedAt: 2025-11-16 17:10:53 -0500 (Sun, 16 Nov 2025) EndedAt: 2025-11-16 17:30:18 -0500 (Sun, 16 Nov 2025) EllapsedTime: 1165.4 seconds RetCode: 0 Status: OK PackageFile: DECIPHER_3.7.0.tar.gz PackageFileSize: 17.86 MiB