Package: DECIPHER Version: 3.7.0 Command: /Library/Frameworks/R.framework/Resources/bin/R CMD INSTALL DECIPHER StartedAt: 2025-11-13 15:09:50 -0500 (Thu, 13 Nov 2025) EndedAt: 2025-11-13 15:10:10 -0500 (Thu, 13 Nov 2025) EllapsedTime: 19.7 seconds RetCode: 0 Status: OK