Package: DECIPHER Version: 3.7.0 Command: rm -rf DECIPHER.buildbin-libdir && mkdir DECIPHER.buildbin-libdir && /Users/biocbuild/BBS/utils/build-universal.sh DECIPHER_3.7.0.tar.gz /Library/Frameworks/R.framework/Resources/bin/R DECIPHER.buildbin-libdir StartedAt: 2025-11-13 23:34:33 -0500 (Thu, 13 Nov 2025) EndedAt: 2025-11-13 23:35:00 -0500 (Thu, 13 Nov 2025) EllapsedTime: 26.6 seconds RetCode: 0 Status: OK PackageFile: DECIPHER_3.7.0.tgz PackageFileSize: 17.4 MiB