Package: DCATS Version: 1.9.0 Command: /home/biocbuild/bbs-3.23-bioc/R/bin/R CMD build --keep-empty-dirs --no-resave-data DCATS StartedAt: 2025-11-14 17:09:23 -0500 (Fri, 14 Nov 2025) EndedAt: 2025-11-14 17:09:36 -0500 (Fri, 14 Nov 2025) EllapsedTime: 13.0 seconds RetCode: 0 Status: OK PackageFile: DCATS_1.9.0.tar.gz PackageFileSize: 2.836 MiB