Package: DCATS Version: 1.9.0 Command: /Library/Frameworks/R.framework/Resources/bin/R CMD build --keep-empty-dirs --no-resave-data DCATS StartedAt: 2025-11-13 16:08:26 -0500 (Thu, 13 Nov 2025) EndedAt: 2025-11-13 16:08:33 -0500 (Thu, 13 Nov 2025) EllapsedTime: 7.1 seconds RetCode: 0 Status: OK PackageFile: DCATS_1.9.0.tar.gz PackageFileSize: 2.836 MiB