Package: DCATS Version: 1.9.0 Maintainer: Xinyi Lin MaintainerEmail: linxy29 at connect.hku.hk git_url: https://git.bioconductor.org/packages/DCATS git_branch: devel git_last_commit: 8e6ca39 git_last_commit_date: 2025-10-29 11:23:30 -0500 (Wed, 29 Oct 2025)