Package: DART Version: 1.59.0 Command: /home/biocbuild/bbs-3.23-bioc/R/bin/R CMD build --keep-empty-dirs --no-resave-data DART StartedAt: 2025-11-13 17:08:40 -0500 (Thu, 13 Nov 2025) EndedAt: 2025-11-13 17:09:00 -0500 (Thu, 13 Nov 2025) EllapsedTime: 20.0 seconds RetCode: 0 Status: OK PackageFile: DART_1.59.0.tar.gz PackageFileSize: 1.988 MiB