Package: DART Version: 1.59.0 Maintainer: Charles Shijie Zheng MaintainerEmail: charles_zheng at live.com git_url: https://git.bioconductor.org/packages/DART git_branch: devel git_last_commit: 9908860 git_last_commit_date: 2025-10-29 10:10:09 -0500 (Wed, 29 Oct 2025)