Package: DAPAR Version: 1.43.0 Command: /home/biocbuild/bbs-3.23-bioc/R/bin/R CMD INSTALL DAPAR StartedAt: 2025-11-13 15:37:16 -0500 (Thu, 13 Nov 2025) EndedAt: 2025-11-13 15:38:02 -0500 (Thu, 13 Nov 2025) EllapsedTime: 45.3 seconds RetCode: 0 Status: OK