Package: DAPAR Version: 1.43.0 Command: /home/biocbuild/bbs-3.23-bioc/R/bin/R CMD build --keep-empty-dirs --no-resave-data DAPAR StartedAt: 2025-11-11 17:11:28 -0500 (Tue, 11 Nov 2025) EndedAt: 2025-11-11 17:11:29 -0500 (Tue, 11 Nov 2025) EllapsedTime: 1.0 seconds RetCode: 0 Status: OK PackageFile: DAPAR_1.43.0.tar.gz PackageFileSize: 150.4 KiB