Package: DAPAR Version: 1.43.0 Command: /Library/Frameworks/R.framework/Resources/bin/R CMD INSTALL DAPAR StartedAt: 2025-11-13 15:22:57 -0500 (Thu, 13 Nov 2025) EndedAt: 2025-11-13 15:23:15 -0500 (Thu, 13 Nov 2025) EllapsedTime: 17.4 seconds RetCode: 0 Status: OK