Package: DAPAR Version: 1.43.0 Maintainer: Samuel Wieczorek MaintainerEmail: samuel.wieczorek at cea.fr git_url: https://git.bioconductor.org/packages/DAPAR git_branch: devel git_last_commit: 47a1b73 git_last_commit_date: 2025-10-29 10:28:00 -0500 (Wed, 29 Oct 2025)