Package: CytoPipelineGUI Version: 1.9.0 Command: /home/biocbuild/bbs-3.23-bioc/R/bin/R CMD INSTALL CytoPipelineGUI StartedAt: 2025-11-13 15:34:09 -0500 (Thu, 13 Nov 2025) EndedAt: 2025-11-13 15:34:23 -0500 (Thu, 13 Nov 2025) EllapsedTime: 14.1 seconds RetCode: 0 Status: OK