Package: CytoPipelineGUI Version: 1.9.0 Command: /home/biocbuild/bbs-3.23-bioc/R/bin/R CMD check --install=check:CytoPipelineGUI.install-out.txt --library=/home/biocbuild/bbs-3.23-bioc/R/site-library --timings CytoPipelineGUI_1.9.0.tar.gz StartedAt: 2025-11-13 22:36:54 -0500 (Thu, 13 Nov 2025) EndedAt: 2025-11-13 22:40:27 -0500 (Thu, 13 Nov 2025) EllapsedTime: 213.2 seconds RetCode: 0 Status: OK CheckDir: CytoPipelineGUI.Rcheck Warnings: 0