Package: CytoPipelineGUI Version: 1.9.0 Command: /Library/Frameworks/R.framework/Resources/bin/R CMD INSTALL CytoPipelineGUI StartedAt: 2025-11-13 15:10:11 -0500 (Thu, 13 Nov 2025) EndedAt: 2025-11-13 15:10:16 -0500 (Thu, 13 Nov 2025) EllapsedTime: 5.1 seconds RetCode: 0 Status: OK