Package: CytoPipeline Version: 1.11.0 Command: /home/biocbuild/bbs-3.23-bioc/R/bin/R CMD check --install=check:CytoPipeline.install-out.txt --library=/home/biocbuild/bbs-3.23-bioc/R/site-library --timings CytoPipeline_1.11.0.tar.gz StartedAt: 2025-11-13 22:36:30 -0500 (Thu, 13 Nov 2025) EndedAt: 2025-11-13 22:41:40 -0500 (Thu, 13 Nov 2025) EllapsedTime: 309.3 seconds RetCode: 0 Status: OK CheckDir: CytoPipeline.Rcheck Warnings: 0