Package: CytoPipeline Version: 1.11.0 Command: /Library/Frameworks/R.framework/Resources/bin/R CMD build --keep-empty-dirs --no-resave-data CytoPipeline StartedAt: 2025-11-13 16:07:29 -0500 (Thu, 13 Nov 2025) EndedAt: 2025-11-13 16:07:50 -0500 (Thu, 13 Nov 2025) EllapsedTime: 20.2 seconds RetCode: 0 Status: OK PackageFile: CytoPipeline_1.11.0.tar.gz PackageFileSize: 3.346 MiB