Package: CytoML Version: 2.23.0 Command: /home/biocbuild/bbs-3.23-bioc/R/bin/R CMD INSTALL CytoML StartedAt: 2025-11-14 15:34:37 -0500 (Fri, 14 Nov 2025) EndedAt: 2025-11-14 15:35:35 -0500 (Fri, 14 Nov 2025) EllapsedTime: 58.2 seconds RetCode: 0 Status: OK