Package: CytoML Version: 2.23.0 Command: /home/biocbuild/bbs-3.23-bioc/R/bin/R CMD build --keep-empty-dirs --no-resave-data CytoML StartedAt: 2025-11-14 17:07:02 -0500 (Fri, 14 Nov 2025) EndedAt: 2025-11-14 17:08:31 -0500 (Fri, 14 Nov 2025) EllapsedTime: 89.1 seconds RetCode: 0 Status: OK PackageFile: CytoML_2.23.0.tar.gz PackageFileSize: 8.052 MiB