Package: CytoML Version: 2.23.0 Command: rm -rf CytoML.buildbin-libdir && mkdir CytoML.buildbin-libdir && /Users/biocbuild/BBS/utils/build-universal.sh CytoML_2.23.0.tar.gz /Library/Frameworks/R.framework/Resources/bin/R CytoML.buildbin-libdir StartedAt: 2025-11-13 23:34:10 -0500 (Thu, 13 Nov 2025) EndedAt: 2025-11-13 23:34:37 -0500 (Thu, 13 Nov 2025) EllapsedTime: 27.6 seconds RetCode: 0 Status: OK PackageFile: CytoML_2.23.0.tgz PackageFileSize: 9.193 MiB