Package: CytoMDS Version: 1.7.0 Command: /home/biocbuild/bbs-3.23-bioc/R/bin/R CMD INSTALL CytoMDS StartedAt: 2025-11-14 15:35:00 -0500 (Fri, 14 Nov 2025) EndedAt: 2025-11-14 15:35:15 -0500 (Fri, 14 Nov 2025) EllapsedTime: 15.1 seconds RetCode: 0 Status: OK