Package: CytoMDS Version: 1.7.0 Command: /Library/Frameworks/R.framework/Resources/bin/R CMD build --keep-empty-dirs --no-resave-data CytoMDS StartedAt: 2025-11-13 16:07:06 -0500 (Thu, 13 Nov 2025) EndedAt: 2025-11-13 16:08:26 -0500 (Thu, 13 Nov 2025) EllapsedTime: 79.9 seconds RetCode: 0 Status: OK PackageFile: CytoMDS_1.7.0.tar.gz PackageFileSize: 5.081 MiB