Package: CytoMDS Version: 1.7.0 Maintainer: Philippe Hauchamps MaintainerEmail: philippe.hauchamps at uclouvain.be git_url: https://git.bioconductor.org/packages/CytoMDS git_branch: devel git_last_commit: 5e6cbd6 git_last_commit_date: 2025-10-29 11:28:49 -0500 (Wed, 29 Oct 2025)