Package: CytoGLMM Version: 1.19.0 Command: /home/biocbuild/bbs-3.23-bioc/R/bin/R CMD INSTALL CytoGLMM StartedAt: 2025-11-14 15:11:39 -0500 (Fri, 14 Nov 2025) EndedAt: 2025-11-14 15:11:51 -0500 (Fri, 14 Nov 2025) EllapsedTime: 12.8 seconds RetCode: 0 Status: OK