Package: CytoGLMM Version: 1.19.0 Command: /Library/Frameworks/R.framework/Resources/bin/R CMD build --keep-empty-dirs --no-resave-data CytoGLMM StartedAt: 2025-11-12 16:05:22 -0500 (Wed, 12 Nov 2025) EndedAt: 2025-11-12 16:06:03 -0500 (Wed, 12 Nov 2025) EllapsedTime: 41.5 seconds RetCode: 0 Status: OK PackageFile: CytoGLMM_1.19.0.tar.gz PackageFileSize: 339 KiB