Package: CytoGLMM Version: 1.19.0 Command: rm -rf CytoGLMM.buildbin-libdir && mkdir CytoGLMM.buildbin-libdir && /Users/biocbuild/BBS/utils/build-universal.sh CytoGLMM_1.19.0.tar.gz /Library/Frameworks/R.framework/Resources/bin/R CytoGLMM.buildbin-libdir StartedAt: 2025-11-12 20:55:34 -0500 (Wed, 12 Nov 2025) EndedAt: 2025-11-12 20:55:41 -0500 (Wed, 12 Nov 2025) EllapsedTime: 7.2 seconds RetCode: 0 Status: OK PackageFile: CytoGLMM_1.19.0.tgz PackageFileSize: 425.6 KiB