Package: CytoGLMM Version: 1.19.0 Maintainer: Christof Seiler MaintainerEmail: christof.seiler at maastrichtuniversity.nl git_url: https://git.bioconductor.org/packages/CytoGLMM git_branch: devel git_last_commit: 9682447 git_last_commit_date: 2025-10-29 11:07:44 -0500 (Wed, 29 Oct 2025)