Package: CytoDx Version: 1.31.0 Command: /Library/Frameworks/R.framework/Resources/bin/R CMD INSTALL CytoDx StartedAt: 2025-11-13 15:07:17 -0500 (Thu, 13 Nov 2025) EndedAt: 2025-11-13 15:07:21 -0500 (Thu, 13 Nov 2025) EllapsedTime: 4.3 seconds RetCode: 0 Status: OK