Package: CytoDx Version: 1.31.0 Command: /Library/Frameworks/R.framework/Resources/bin/R CMD build --keep-empty-dirs --no-resave-data CytoDx StartedAt: 2025-11-13 16:06:43 -0500 (Thu, 13 Nov 2025) EndedAt: 2025-11-13 16:06:53 -0500 (Thu, 13 Nov 2025) EllapsedTime: 10.1 seconds RetCode: 0 Status: OK PackageFile: CytoDx_1.31.0.tar.gz PackageFileSize: 660.9 KiB